BEGIN:VCALENDAR
PRODID:-//SNB+BNS//iCal//fr
VERSION:2.0
CALSCALE:GREGORIAN
METHOD:PUBLISH
UID:2dd8cb72-6957-4715-8401-62f4b9985802-fr
X-WR-RELCALID:2dd8cb72-6957-4715-8401-62f4b9985802-fr
SOURCE:https://www.snb.ch/public/ical/event/fr/2dd8cb72-6957-4715-8401-62f4
 b9985802.ics
URL:https://www.snb.ch/public/ical/event/fr/2dd8cb72-6957-4715-8401-62f4b99
 85802.ics
X-WR-TIMEZONE:Europe/Zurich
REFRESH-INTERVAL:PT6H
X-PUBLISHED-TTL:PT6H
BEGIN:VTIMEZONE
TZID:Europe/Zurich
LAST-MODIFIED:20240422T053450Z
TZURL:https://www.tzurl.org/zoneinfo/Europe/Zurich
X-LIC-LOCATION:Europe/Zurich
X-PROLEPTIC-TZNAME:LMT
BEGIN:STANDARD
TZNAME:BMT
TZOFFSETFROM:+003408
TZOFFSETTO:+002946
DTSTART:18530716T000000
END:STANDARD
BEGIN:STANDARD
TZNAME:CET
TZOFFSETFROM:+002946
TZOFFSETTO:+0100
DTSTART:18940601T000000
END:STANDARD
BEGIN:DAYLIGHT
TZNAME:CEST
TZOFFSETFROM:+0100
TZOFFSETTO:+0200
DTSTART:19410505T010000
RRULE:FREQ=YEARLY;UNTIL=19420504T000000Z;BYMONTH=5;BYDAY=1MO
END:DAYLIGHT
BEGIN:STANDARD
TZNAME:CET
TZOFFSETFROM:+0200
TZOFFSETTO:+0100
DTSTART:19411006T020000
RRULE:FREQ=YEARLY;UNTIL=19421005T000000Z;BYMONTH=10;BYDAY=1MO
END:STANDARD
BEGIN:DAYLIGHT
TZNAME:CEST
TZOFFSETFROM:+0100
TZOFFSETTO:+0200
DTSTART:19810329T020000
RRULE:FREQ=YEARLY;BYMONTH=3;BYDAY=-1SU
END:DAYLIGHT
BEGIN:STANDARD
TZNAME:CET
TZOFFSETFROM:+0200
TZOFFSETTO:+0100
DTSTART:19810927T030000
RRULE:FREQ=YEARLY;UNTIL=19950924T010000Z;BYMONTH=9;BYDAY=-1SU
END:STANDARD
BEGIN:STANDARD
TZNAME:CET
TZOFFSETFROM:+0200
TZOFFSETTO:+0100
DTSTART:19961027T030000
RRULE:FREQ=YEARLY;BYMONTH=10;BYDAY=-1SU
END:STANDARD
END:VTIMEZONE
BEGIN:VEVENT
ORGANIZER;CN=Banque nationale suisse:mailto:snb@snb.ch
DTSTAMP:20260422T223032Z
UID:2dd8cb72-6957-4715-8401-62f4b9985802-fr
X-WR-RELCALID:2dd8cb72-6957-4715-8401-62f4b9985802-fr
SEQUENCE:1776425886
SUMMARY:Martin Schlegel\, panel: 'Central banking for open economies in a c
 hanged world'\, Peterson Institute for International Economics\, Washingto
 n D.C.
LAST-MODIFIED:20260417T113806Z
DTSTART;TZID=Europe/Zurich:20260415T190000
DTEND;TZID=Europe/Zurich:20260415T190000
END:VEVENT
END:VCALENDAR
